BEGIN:VCALENDAR
VERSION:2.0
PRODID:-//Tukios.com/
BEGIN:VEVENT
UID:773a16fd-a90e-4505-8213-d9e05ab96fac@www.sevierfuneralhome.com
DTSTAMP:20260420T201332Z
DTSTART:20260425T180000Z
DTEND:20260425T190000Z
SUMMARY:Burial
DESCRIPTION:
URL:https://www.sevierfuneralhome.com/obituaries/terry-keen
LOCATION: 1008 County Street 2941  Tuttle OK 73089
GEO:35.2457664;-97.7584274
END:VEVENT
END:VCALENDAR